BEGIN:VCALENDAR
PRODID:-//Mozilla.org/NONSGML Mozilla Calendar V1.1//EN
VERSION:2.0
CALSCALE:GREGORIAN
BEGIN:VEVENT
DTSTAMP:20260420T094820Z
DTSTART:20260420T100000
DTEND:20260420T103000
SUMMARY:2009 CHEVROLET CLASSIC 
LOCATION:http://www.copart.com.br:80
DESCRIPTION:Please join us for the following auction:\n\n2009 CHEVROLET C
 LASSIC \nwww.copart.com.br\n\n\n\nContact us at member.services@copart.c
 om or (972) 391-5400 if you have any questions leading up to the auction
 .\n\n\n-Your Copart Team
UID:20260420T094820Z-uidGen@lvpbaw212.corp.copart.com
END:VEVENT
END:VCALENDAR
